BEGIN:VCALENDAR
VERSION:2.0
PRODID:-//Events//NONSGML v1.0//EN
METHOD:PUBLISH
BEGIN:VEVENT
DTSTART;TZID="Pacific Time (US & Canada)":20200120T110000
DTEND;TZID="Pacific Time (US & Canada)":20200120T130000
SUMMARY:Martin Luther King, Jr. Bell-Ringing Ceremony
LOCATION:
DESCRIPTION:The 29th annual Martin Luther King, Jr. Bell-Ringing Ceremony will begin at the Martin Luther King statue on the CBC Pasco campus. Following the ceremony, refreshments will be provided and AMERICORPS will have games for children.
BEGIN:VALARM
ACTION:DISPLAY
DESCRIPTION:REMINDER
TRIGGER;RELATED=START:-PT00H15M00S
END:VALARM
END:VEVENT
END:VCALENDAR
