BEGIN:VCALENDAR
VERSION:2.0
PRODID:-//Events//NONSGML v1.0//EN
METHOD:PUBLISH
BEGIN:VEVENT
DTSTART;TZID="Pacific Time (US & Canada)":20230328T100000
DTEND;TZID="Pacific Time (US & Canada)":20230506T160000
SUMMARY:Master of Fine Arts Thesis Exhibition Open 3/28-5/6
LOCATION:Jordan Schnitzer Museum of Art, 1535 Wilson Rd, Pullman, WA 99164
DESCRIPTION:Visit Tuesdays through Saturdays, from 10:00 a.m. to 4:00 p.m. March 28 through May 6 for the culmination of three years’ work by the MFA graduate candidates. With a wide range of art-making approaches, this year’s MFA candidates are Shanda Stinebaugh, Adam Stuart, Sean Sullivan, and Allen Vu.\n\nTraveling from many places to join WSU, these student-artists have engaged in an intense interdisciplinary studio program meeting regularly with faculty members for group and individual critiques. Visiting artists and scholars provided insight into their creative work and the MFA Thesis Exhibition is a focused conclusion marking an exciting transition toward their professional careers.\n\nArtist Talks and Reception for this exhibition will be on Family Weekend - Friday, 3/31 from 3:00-6:00 p.m.\n\nThe Jordan Schnitzer Museum of Art WSU is located in the Crimson Cube (on Wilson Road across from Martin Stadium and the CUB) on the WSU Pullman campus. For more information please visit museum.wsu.edu/about.\n\n&nbsp;
BEGIN:VALARM
ACTION:DISPLAY
DESCRIPTION:REMINDER
TRIGGER;RELATED=START:-PT00H15M00S
END:VALARM
END:VEVENT
END:VCALENDAR
