BEGIN:VCALENDAR
VERSION:2.0
PRODID:-//Events//NONSGML v1.0//EN
METHOD:PUBLISH
BEGIN:VEVENT
DTSTART;TZID="Pacific Time (US & Canada)":20240221T110000
DTEND;TZID="Pacific Time (US & Canada)":20240221T120000
SUMMARY:Medical Laboratory Science (MLS) Information Session &#8211; Cancelled!
LOCATION:Veterinary and Biomedical Research Building, 1815 Ferdinand&#039;s Lane, Pullman, WA 99163
DESCRIPTION:This event has been cancelled.  The speaker is unable to visit today but we will reschedule in the future.  Sorry for the short notice!\n\nShawna Martin, MS, MLS, Director, Heritage University MLS Program, followed by Q&amp;A.\n\nIf you enjoy: science? problem-solving? passion for helping people? an interest in a health-related career?  This information session may be for you.
BEGIN:VALARM
ACTION:DISPLAY
DESCRIPTION:REMINDER
TRIGGER;RELATED=START:-PT00H15M00S
END:VALARM
END:VEVENT
END:VCALENDAR
