BEGIN:VCALENDAR
VERSION:2.0
PRODID:-//Events//NONSGML v1.0//EN
METHOD:PUBLISH
BEGIN:VEVENT
DTSTART;TZID="Pacific Time (US & Canada)":20230227T171500
DTEND;TZID="Pacific Time (US & Canada)":20230227T184500
SUMMARY:Melissa Hellmann, Center of Public Integrity reporter, to speak at Hoops Tax Institute forum
LOCATION:Spark
DESCRIPTION:Melissa Hellmann, racial, gender, and economic inequality reporter for the Center of Public Integrity, will present “The Cost of Disparity: How State Tax Policies Fuel the Racial Wealth Gap” at the Hoops Taxation Research and Policy Institute’s spring forum.\n\nShe will discuss what she’s learned while reporting on economic inequality for the Center for Public Integrity, the discriminatory history behind tax codes, how Washington’s system exacerbates inequality, and possible solutions. Hellmann’s stories expose practices that disproportionately impact marginalized communities. She has reported in the homes of migrant families in the outskirts of Beijing, China; Israeli checkpoints in the West Bank; and a Tacoma, Washington, detention center where detainees alleged their medical needs were ignored. Along with being featured in local and national radio and TV programs, her work has been cited in books, academic studies, and city reports.\n\nFor more information, contact Jeff Gramlich, WSU Howard D. and B. Phyllis Hoops endowed chair.\n\n&nbsp;
BEGIN:VALARM
ACTION:DISPLAY
DESCRIPTION:REMINDER
TRIGGER;RELATED=START:-PT00H15M00S
END:VALARM
END:VEVENT
END:VCALENDAR
