BEGIN:VCALENDAR
VERSION:2.0
PRODID:-//Events//NONSGML v1.0//EN
METHOD:PUBLISH
BEGIN:VEVENT
DTSTART;TZID="Pacific Time (US & Canada)":20220117T000000
DTEND;TZID="Pacific Time (US & Canada)":20220117T003000
SUMMARY:MLK Jr. Day of Service
LOCATION:
DESCRIPTION:Honor Dr. Martin Luther King Jr. by joining a day of service and engaging with our community. Choose from a list of opportunities below.\n\nMLK Volunteer Opportunities on GivePulse\n\n______\n\nClick for a list of MLK events in 2022
BEGIN:VALARM
ACTION:DISPLAY
DESCRIPTION:REMINDER
TRIGGER;RELATED=START:-PT00H15M00S
END:VALARM
END:VEVENT
END:VCALENDAR
