BEGIN:VCALENDAR
VERSION:2.0
PRODID:-//Events//NONSGML v1.0//EN
METHOD:PUBLISH
BEGIN:VEVENT
DTSTART;TZID="Pacific Time (US & Canada)":20190822T110000
DTEND;TZID="Pacific Time (US & Canada)":20190822T113000
SUMMARY:MME Seminar
LOCATION:Engineering Teaching Research Laboratory (ETRL), Pullman, WA
DESCRIPTION:Characterizing Complex Mixtures For Improved Chemical Processes\n\nPresented by\n\nSteven R. Saunders, Assistant Professor, School of Chemical Engineering &amp; Bioengineering\n\nMeet the speaker before the seminar in ETRL room 119, 10:30 to 10:50 a.m.\n\nLight refreshments will be served.
BEGIN:VALARM
ACTION:DISPLAY
DESCRIPTION:REMINDER
TRIGGER;RELATED=START:-PT00H15M00S
END:VALARM
END:VEVENT
END:VCALENDAR
