BEGIN:VCALENDAR
VERSION:2.0
PRODID:-//Events//NONSGML v1.0//EN
METHOD:PUBLISH
BEGIN:VEVENT
DTSTART;TZID="Pacific Time (US & Canada)":20260508T150000
DTEND;TZID="Pacific Time (US & Canada)":20260508T163000
SUMMARY:Murrow Award Ceremony and Open House
LOCATION:Goertzen Hall
DESCRIPTION:Join fellow Murrow Cougs, staff, and faculty on Friday, May 8th as Dean Pinkleton kicks off the Murrow Student Recognition and Awards Ceremony at 3:00 PM in Goertzen 21, welcoming Murrow’s newest alumni...you and the graduating class of 2026! Families and supporters are welcome to join! Light refreshments will be served during this special occasion, celebrating your achievements.\n\n\n\nA selfie station under the balloon arch on the first floor of Goertzen will be set up around Edward R. Murrow’s door. Twice a year, Murrow&#039;s original door from his CBS office is uncased. Take part in this graduation tradition of knocking on Murrow’s door.\n\n\n\nWe are excited to celebrate with you and wish you all the best in your future endeavors!
BEGIN:VALARM
ACTION:DISPLAY
DESCRIPTION:REMINDER
TRIGGER;RELATED=START:-PT00H15M00S
END:VALARM
END:VEVENT
END:VCALENDAR
