BEGIN:VCALENDAR
VERSION:2.0
PRODID:-//Events//NONSGML v1.0//EN
METHOD:PUBLISH
BEGIN:VEVENT
DTSTART;TZID="Pacific Time (US & Canada)":20241028T000000
DTEND;TZID="Pacific Time (US & Canada)":20241028T003000
SUMMARY:Music Major For A Day
LOCATION:Kimbrough Music Building
DESCRIPTION:BE A MUSIC MAJOR FOR A DAY!\n\nThe Washington State University School of Music would like to invite prospective students and their parents/guardians to its Fall 2024 MUSIC MAJOR FOR A DAY open house. Join us in experiencing a day in the life of a WSU music student. This event is open to all students considering a degree in music education, music performance, general music, a double major, or a music minor. Attendance is FREE of charge.\n\n• See first-hand how we provide students with a rich and diverse musical education\n\n• Experience how we prepare students for successful careers in music\n\n• Learn about degree programs, admission, auditions, scholarships, and financial aid\n\n• Attend classes and participate in ensemble rehearsals\n\n• Meet the School of Music faculty\n\n• Enjoy a free private lesson with one of our faculty members\n\n• Interact with current music students\n\nRegister now: https://music.wsu.edu/mmfad/\n\nRegistration Deadline is October 18th, 2024
BEGIN:VALARM
ACTION:DISPLAY
DESCRIPTION:REMINDER
TRIGGER;RELATED=START:-PT00H15M00S
END:VALARM
END:VEVENT
END:VCALENDAR
