BEGIN:VCALENDAR
VERSION:2.0
PRODID:-//Events//NONSGML v1.0//EN
METHOD:PUBLISH
BEGIN:VEVENT
DTSTART;TZID="Pacific Time (US & Canada)":20220401T120000
DTEND;TZID="Pacific Time (US & Canada)":20220401T140000
SUMMARY:National Farmworker Awareness Week Closing Ceremony
LOCATION:Terrell Library Atrium, Pullman, WA 99164
DESCRIPTION:Join the College Assistance Migrant Program (CAMP) and the Chicanx/Latinx Student Center in honoring farmworkers in Washington and across the country at the closing ceremony for National Farmworker Awareness Week.\n\nThe event will include free food and a dance performance by WSU&#039;s Baile Folklórico.\n\n&nbsp;
BEGIN:VALARM
ACTION:DISPLAY
DESCRIPTION:REMINDER
TRIGGER;RELATED=START:-PT00H15M00S
END:VALARM
END:VEVENT
END:VCALENDAR
