BEGIN:VCALENDAR
VERSION:2.0
PRODID:-//Events//NONSGML v1.0//EN
METHOD:PUBLISH
BEGIN:VEVENT
DTSTART;TZID="Pacific Time (US & Canada)":20250211T160000
DTEND;TZID="Pacific Time (US & Canada)":20250211T170000
SUMMARY:NAVAIR Info Session
LOCATION:Spark
DESCRIPTION:Join us for a NAVAIR Info Session Discover how NAVAIR is shaping the future of aerospace and defense innovation. Learn about exciting career opportunities, internships, and the cutting-edge projects you could be working on.  Don’t miss out on this chance to network with experts and kick-start your career with NAVAIR!\n\n
BEGIN:VALARM
ACTION:DISPLAY
DESCRIPTION:REMINDER
TRIGGER;RELATED=START:-PT00H15M00S
END:VALARM
END:VEVENT
END:VCALENDAR
