BEGIN:VCALENDAR
VERSION:2.0
PRODID:-//Events//NONSGML v1.0//EN
METHOD:PUBLISH
BEGIN:VEVENT
DTSTART;TZID="Pacific Time (US & Canada)":20190306T121000
DTEND;TZID="Pacific Time (US & Canada)":20190306T130000
SUMMARY:Navigating the OER Environment
LOCATION:
DESCRIPTION:This workshop will provide a general overview of the OER landscape. You will learn about Creative Commons licensing, tips for finding resources and support that is available on campus to help you search for and construct a variety of course resources including OER textbooks.\n\nRegister for Navigating the OER Environment
BEGIN:VALARM
ACTION:DISPLAY
DESCRIPTION:REMINDER
TRIGGER;RELATED=START:-PT00H15M00S
END:VALARM
END:VEVENT
END:VCALENDAR
