BEGIN:VCALENDAR
VERSION:2.0
PRODID:-//Events//NONSGML v1.0//EN
METHOD:PUBLISH
BEGIN:VEVENT
DTSTART;TZID="Pacific Time (US & Canada)":20141003T121000
DTEND;TZID="Pacific Time (US & Canada)":20141003T133000
SUMMARY:Neuroscience Fall Seminar Series Presents: Dr. H. Craig Heller
LOCATION:
DESCRIPTION:Dr. H. Craig Heller\n\nDepartment of Biology, Stanford University\n\nand Co-Director of Stanford Down Syndrome Research Center\n\nADAPTIVE AND PATHOLOGICAL INHIBITION OF NEUROPLASTICITY ASSOCIATED WITH CIRCADIAN RHYTHMS AND SLEEP\n\nBroadcast from WSU Spokane\n\nFriday, October 3rd, 2014\n\n12:10-1:30 pm\n\nSAC 205\n\nHosted by: Dr. Jonathan Wisor, IPN Department, WSU Spokane
BEGIN:VALARM
ACTION:DISPLAY
DESCRIPTION:REMINDER
TRIGGER;RELATED=START:-PT00H15M00S
END:VALARM
END:VEVENT
END:VCALENDAR
