BEGIN:VCALENDAR
VERSION:2.0
PRODID:-//Events//NONSGML v1.0//EN
METHOD:PUBLISH
BEGIN:VEVENT
DTSTART;TZID="Pacific Time (US & Canada)":20241008T170000
DTEND;TZID="Pacific Time (US & Canada)":20241008T180000
SUMMARY:Northrop Grumman virtual info session
LOCATION:
DESCRIPTION:Are you interested in learning more about Northrup Grumman? You can join Northrop Grumman&#039;s Virtual Info Sessions on Microsoft Teams.\n\n&nbsp;\n\nJoin the meeting through this link\n\nMeeting ID: 992 210 039 395\n\nPasscode: MFX7mL\n\n
BEGIN:VALARM
ACTION:DISPLAY
DESCRIPTION:REMINDER
TRIGGER;RELATED=START:-PT00H15M00S
END:VALARM
END:VEVENT
END:VCALENDAR
