BEGIN:VCALENDAR
VERSION:2.0
PRODID:-//Events//NONSGML v1.0//EN
METHOD:PUBLISH
BEGIN:VEVENT
DTSTART;TZID="Pacific Time (US & Canada)":20221019T193000
DTEND;TZID="Pacific Time (US & Canada)":20221019T210000
SUMMARY:Guest Artist: Genevieve Clarkson, tuba &#8211; Oktubafest Part II
LOCATION:Bryan Hall
DESCRIPTION:PROGRAM\n\nOktubafest Part 2\n\nWednesday, October 19 at 7:30 PM in Bryan Hall Theatre\n\nContinuing with Oktubafest, this year’s guest artist is Genevieve Clarkson (Associate Professor of Tuba and Euphonium at Oklahoma City University). She will play a recital of original music and transcriptions for tuba. Dr. Yoon-Wha Roh (WSU piano faculty member) will join Dr. Clarkson on this recital.\n\n\n\nThis event is sponsored by Allegro:\n\nAllegro is an umbrella Registered Student Organization that represents all music student organizations at Washington State University. Allegro aims to excite and inspire through music by partnering with student organizations to provide funding for world-renowned guest artists to perform and work one-on-one with students on the Pullman campus. Allegro receives generous funding from the Associated Students of Washington State University.
BEGIN:VALARM
ACTION:DISPLAY
DESCRIPTION:REMINDER
TRIGGER;RELATED=START:-PT00H15M00S
END:VALARM
END:VEVENT
END:VCALENDAR
