BEGIN:VCALENDAR
VERSION:2.0
PRODID:-//Events//NONSGML v1.0//EN
METHOD:PUBLISH
BEGIN:VEVENT
DTSTART;TZID="Pacific Time (US & Canada)":20201001T120000
DTEND;TZID="Pacific Time (US & Canada)":20201001T130000
SUMMARY:One Wild World with Allen School&#8217;s Bonnie Gunn
LOCATION:
DESCRIPTION:The connection between humans and animals has never been more timely or impactful than it is right now. People around the world have the shared experience of a global pandemic, the origins of which can be traced to wildlife and wildlife trafficking.\n\nJoin Woodland Park Zoo and experts around the globe for the new series One Wild World: Examining the Intersection of Animals, Humans and Habitats in a Global Pandemic. This live, virtual series is free to watch and offers perspective, education, and solutions to major challenges in wildlife conservation and global health.\n\nBonnie Gunn, PhD, Assistant Professor in the Paul G. Allen School of Global Animal Health at Washington State University.
BEGIN:VALARM
ACTION:DISPLAY
DESCRIPTION:REMINDER
TRIGGER;RELATED=START:-PT00H15M00S
END:VALARM
END:VEVENT
END:VCALENDAR
