BEGIN:VCALENDAR
VERSION:2.0
PRODID:-//Events//NONSGML v1.0//EN
METHOD:PUBLISH
BEGIN:VEVENT
DTSTART;TZID="Pacific Time (US & Canada)":20220518T190000
DTEND;TZID="Pacific Time (US & Canada)":20220518T200000
SUMMARY:Online Pictionary
LOCATION:Online
DESCRIPTION:Practice your drawing skills and join us in a game of online Pictionary! Players will be split into teams and take turns drawing on Zoom’s Whiteboard feature while their team tries to guess the correct answer. The team with the most points at the end of the game will win swag prizes!\n\nParticipants must be WSU affiliated to participate and WSU Global Campus S&amp;A fee paying students to win prizes.
BEGIN:VALARM
ACTION:DISPLAY
DESCRIPTION:REMINDER
TRIGGER;RELATED=START:-PT00H15M00S
END:VALARM
END:VEVENT
END:VCALENDAR
