BEGIN:VCALENDAR
VERSION:2.0
PRODID:-//Events//NONSGML v1.0//EN
METHOD:PUBLISH
BEGIN:VEVENT
DTSTART;TZID="Pacific Time (US & Canada)":20211002T090000
DTEND;TZID="Pacific Time (US & Canada)":20211002T160000
SUMMARY:Pacific Northwest Student Leadership Conference
LOCATION:Spark
DESCRIPTION:Join Student Leaders From Across The State!\n\nStudent Leadership Conference is a unique opportunity to meet other student leaders from across the WSU system while building on your leadership skills and gaining inspiration. The whole day will be filled with workshops, a free lunch, and guest speakers.\n\nTime: Saturday, October 2, 2021 | 9:00 a.m.-4:00 p.m. | WSU Pullman - Spark Building\n\nCost: Free for WSU Pullman Students (and Global Campus students participating online). $20 for WSU students from other campuses. $25 for non-WSU college students.\n\nRegister for the Conference\n\nConference Registration closes on Friday, September 24.\n\nView conference page and event schedule\n\nAre you a Global Campus Student?\n\nRegister as a Global Campus Student\n\n\n\n\n\nKeynote Speaker: Linnita Hosten\n\nLinnita Hosten is an award-winning student success strategist who empowers students to identify and go after their DREAM career\n\nLearn more about Linnita Hosten
BEGIN:VALARM
ACTION:DISPLAY
DESCRIPTION:REMINDER
TRIGGER;RELATED=START:-PT00H15M00S
END:VALARM
END:VEVENT
END:VCALENDAR
