BEGIN:VCALENDAR
VERSION:2.0
PRODID:-//Events//NONSGML v1.0//EN
METHOD:PUBLISH
BEGIN:VEVENT
DTSTART;TZID="Pacific Time (US & Canada)":20191008T190000
DTEND;TZID="Pacific Time (US & Canada)":20191008T210000
SUMMARY:Palouse French Film Festival
LOCATION:
DESCRIPTION:Au revoir là-haut / See You Up ThereDirected by Albert DupontelCrime, Drama  -  117 min.  (2017)\n\nIn November 1918, a few days before the Armistice, Edouard Péricourt saves Albert Maillard&#039;s life. The two men have nothing in common but the war. On the ruins of the carnage of WWI, condemned to live, the two soldiers - a disfigured but brilliant artist and an ex-accountant - attempt to survive. They connive to mount a monumental scam exploiting bereaved families and communities seeking to properly commemorate their fallen heroes. But in the France of the Roaring Twenties, their adventures soon turn dangerous.
BEGIN:VALARM
ACTION:DISPLAY
DESCRIPTION:REMINDER
TRIGGER;RELATED=START:-PT00H15M00S
END:VALARM
END:VEVENT
END:VCALENDAR
