BEGIN:VCALENDAR
VERSION:2.0
PRODID:-//Events//NONSGML v1.0//EN
METHOD:PUBLISH
BEGIN:VEVENT
DTSTART;TZID="Pacific Time (US & Canada)":20191001T190000
DTEND;TZID="Pacific Time (US & Canada)":20191001T210000
SUMMARY:Palouse French Film Festival
LOCATION:
DESCRIPTION:Chez nous / This Is Our Land Directed by Lucas BelvauxDrama  -  117 min. (2018)\n\nThe story of a liberal nurse who finds herself as the number-one candidate of a far-right political party in a fictional town&#039;s upcoming local election. Engaged but apolitical, she lets herself get pushed around. This affects her relationships with her family, friends and patients. Based on numerous recent events in France, it becomes about how Front National operates and how it is perceived by the French. Opening reception at 6 pm.
BEGIN:VALARM
ACTION:DISPLAY
DESCRIPTION:REMINDER
TRIGGER;RELATED=START:-PT00H15M00S
END:VALARM
END:VEVENT
END:VCALENDAR
