BEGIN:VCALENDAR
VERSION:2.0
PRODID:-//Events//NONSGML v1.0//EN
METHOD:PUBLISH
BEGIN:VEVENT
DTSTART;TZID="Pacific Time (US & Canada)":20191022T190000
DTEND;TZID="Pacific Time (US & Canada)":20191022T210000
SUMMARY:Palouse French Film Festival
LOCATION:
DESCRIPTION:Les Invisibles / Invisibles\n\nDirected by Louis-Julien PetitComedy, Drama  -  102 min.  (2019)\n\nAudrey and Manu run a day shelter for homeless women, offering them a warm shower, hot meal, a little camaraderie and some necessary career guidance. When municipal officials decide that the center isn’t helping get enough people off the streets and back to work, they shut it down, leaving Audrey and Manu to deal with the consequences. The two soon decide to keep it open clandestinely, allowing their girls to stay there overnight while training them during the day to become confident and functioning members of society.Closing reception at 6:30 pm.
BEGIN:VALARM
ACTION:DISPLAY
DESCRIPTION:REMINDER
TRIGGER;RELATED=START:-PT00H15M00S
END:VALARM
END:VEVENT
END:VCALENDAR
