BEGIN:VCALENDAR
VERSION:2.0
PRODID:-//Events//NONSGML v1.0//EN
METHOD:PUBLISH
BEGIN:VEVENT
DTSTART;TZID="Pacific Time (US & Canada)":20241206T120000
DTEND;TZID="Pacific Time (US & Canada)":20241206T180000
SUMMARY:Palouse Ridge Holiday Sale
LOCATION:Palouse Ridge Golf Club, 1260 Palouse Ridge Drive, Pullman, WA 99164
DESCRIPTION:Noon - 4 p.m., Wednesday &amp; Thursday, December 4 &amp; 5\n\nAND\n\nNoon-6 p.m., Friday, December 6.\n\nJoin us at the Palouse Ridge Golf Shop for our annual Holiday Sale.\n\nApparel, gear, rental clubs, sunglasses - and of course - gift cards.
BEGIN:VALARM
ACTION:DISPLAY
DESCRIPTION:REMINDER
TRIGGER;RELATED=START:-PT00H15M00S
END:VALARM
END:VEVENT
END:VCALENDAR
