BEGIN:VCALENDAR
VERSION:2.0
PRODID:-//Events//NONSGML v1.0//EN
METHOD:PUBLISH
BEGIN:VEVENT
DTSTART;TZID="Pacific Time (US & Canada)":20240924T090000
DTEND;TZID="Pacific Time (US & Canada)":20240924T093000
SUMMARY:Paul G. Allen School for Global Health Seminar
LOCATION:Paul G. Allen School for Global Health, 1155 NE College Ave, Pullman, WA 99164
DESCRIPTION:WSU’s Undergraduate Public Health Program\n\nPresented by Drs. Todd Sabato and Kimberly McBride.\n\nPublic health students study areas such as epidemiology, biostatistics, health systems, and health communication to address society’s complex public health challenges, ranging from infectious diseases to addiction. Read more about the Bachelor of Science in Public Health.
BEGIN:VALARM
ACTION:DISPLAY
DESCRIPTION:REMINDER
TRIGGER;RELATED=START:-PT00H15M00S
END:VALARM
END:VEVENT
END:VCALENDAR
