BEGIN:VCALENDAR
VERSION:2.0
PRODID:-//Events//NONSGML v1.0//EN
METHOD:PUBLISH
BEGIN:VEVENT
DTSTART;TZID="Pacific Time (US & Canada)":20241001T180000
DTEND;TZID="Pacific Time (US & Canada)":20241001T190000
SUMMARY:PCA Info Session
LOCATION:Wegner Hall
DESCRIPTION:Come learn about the Packing Corporation of America (PCA)\n\nMajors: ChemE, EE, ME (focus on Sophomore, Juniors, Seniors)
BEGIN:VALARM
ACTION:DISPLAY
DESCRIPTION:REMINDER
TRIGGER;RELATED=START:-PT00H15M00S
END:VALARM
END:VEVENT
END:VCALENDAR
