BEGIN:VCALENDAR
VERSION:2.0
PRODID:-//Events//NONSGML v1.0//EN
METHOD:PUBLISH
BEGIN:VEVENT
DTSTART;TZID="Pacific Time (US & Canada)":20190814T190000
DTEND;TZID="Pacific Time (US & Canada)":20190814T210000
SUMMARY:Pep Rally &amp; Class Photo
LOCATION:Martin Stadium, WA
DESCRIPTION:Learn Cougar Traditions and join the rest of the entering year class of 2019 in a massive photo!
BEGIN:VALARM
ACTION:DISPLAY
DESCRIPTION:REMINDER
TRIGGER;RELATED=START:-PT00H15M00S
END:VALARM
END:VEVENT
END:VCALENDAR
