BEGIN:VCALENDAR
VERSION:2.0
PRODID:-//Events//NONSGML v1.0//EN
METHOD:PUBLISH
BEGIN:VEVENT
DTSTART;TZID="Pacific Time (US & Canada)":20231013T193000
DTEND;TZID="Pacific Time (US & Canada)":20231013T210000
SUMMARY:Canceled: Phi Mu Alpha Sinfonia: Homecoming
LOCATION:Bryan Hall
DESCRIPTION:This event has been rescheduled for January 2024.
BEGIN:VALARM
ACTION:DISPLAY
DESCRIPTION:REMINDER
TRIGGER;RELATED=START:-PT00H15M00S
END:VALARM
END:VEVENT
END:VCALENDAR
