BEGIN:VCALENDAR
VERSION:2.0
PRODID:-//Events//NONSGML v1.0//EN
METHOD:PUBLISH
BEGIN:VEVENT
DTSTART;TZID="Pacific Time (US & Canada)":20190816T190000
DTEND;TZID="Pacific Time (US & Canada)":20190816T200000
SUMMARY:Planetarium Show: Backyard Binocular Astronomy
LOCATION:Sloan Hall, 305 NE Spokane Street, Pullman, WA 99163
DESCRIPTION:The pattern of the constellations remains unchanged from generation to generation. Using these familiar landmarks (skymarks?) to guide us, we will point out some of the fascinating astronomical objects that can be seen with binoculars. Maybe a little too faint for the unaided eye, but not requiring the power of a telescope, there is a long list of amazing sky objects best viewed with a humble pair of binoculars.\n\nTickets are $5 at the door (cash or check, no cards). Children 6 and under are free.
BEGIN:VALARM
ACTION:DISPLAY
DESCRIPTION:REMINDER
TRIGGER;RELATED=START:-PT00H15M00S
END:VALARM
END:VEVENT
END:VCALENDAR
