BEGIN:VCALENDAR
VERSION:2.0
PRODID:-//Events//NONSGML v1.0//EN
METHOD:PUBLISH
BEGIN:VEVENT
DTSTART;TZID="Pacific Time (US & Canada)":20220128T000000
DTEND;TZID="Pacific Time (US & Canada)":20220130T000000
SUMMARY:Planetarium Show &#8211; Seeing! A Photon&#8217;s Journey Across Space, Time, and Mind
LOCATION:Sloan Hall, 305 NE Spokane Street, Pullman, WA 99163
DESCRIPTION:\n\nTwo days and times: Friday, January 28th, 7-8pm AND Sunday, January 30th, 5-6pm\n\n\n\nSEEING! A PHOTON&#039;S JOURNEY ACROSS SPACE, TIME AND MIND\n\nFollow the journey of a single photon as it is produced in a distant star, before travelling across the vast expanse of space to land on someone&#039;s retina. This fulldome planetarium show explores some of the fascinating processes of the cosmos, from astrophysics to the biology of the eye and brain. Funded through a generous grant from ZEISS, the show is narrated by astronomer and science communicator, Neil deGrasse Tyson.\n\n&nbsp;\n\nThis show runs 30 minutes in length and will be preceded by a live sky tour.\n\n&nbsp;\n\n\n\n
BEGIN:VALARM
ACTION:DISPLAY
DESCRIPTION:REMINDER
TRIGGER;RELATED=START:-PT00H15M00S
END:VALARM
END:VEVENT
END:VCALENDAR
