BEGIN:VCALENDAR
VERSION:2.0
PRODID:-//Events//NONSGML v1.0//EN
METHOD:PUBLISH
BEGIN:VEVENT
DTSTART;TZID="Pacific Time (US & Canada)":20211112T000000
DTEND;TZID="Pacific Time (US & Canada)":20211114T000000
SUMMARY:Planetarium Showings: The Hot and Energetic Universe
LOCATION:Sloan Hall, 305 NE Spokane Street, Pullman, WA 99163
DESCRIPTION:\n\n\n\n\n\nThe Hot and Energetic Universe uses immersive visualizations and real images to present the achievements of the modern astronomy, the most advanced terrestrial and orbital observatories, the basic principles electromagnetic radiation and the natural phenomena related to the High Energy Astrophysics (HEA). HEA reveals processes in a hot and violent universe as it probes the hot gas in clusters of galaxies (the most massive objects in the universe) or the overheated gas accreting onto supermassive black holes in the centers of galaxies. The high energy radiation provides important information about our own Galaxy, neutron stars and supernova remnants, and stars like our Sun.\n\nAs always tickets are $5 at the door. Cash or check only please, we cannot accept credit at this time.\n\n
BEGIN:VALARM
ACTION:DISPLAY
DESCRIPTION:REMINDER
TRIGGER;RELATED=START:-PT00H15M00S
END:VALARM
END:VEVENT
END:VCALENDAR
