BEGIN:VCALENDAR
VERSION:2.0
PRODID:-//Events//NONSGML v1.0//EN
METHOD:PUBLISH
BEGIN:VEVENT
DTSTART;TZID="Pacific Time (US & Canada)":20220121T190000
DTEND;TZID="Pacific Time (US & Canada)":20220121T200000
SUMMARY:Plantetarium Show: From Earth to the Universe
LOCATION:Sloan Hall, 305 NE Spokane Street, Pullman, WA 99163
DESCRIPTION:A tour of January night skies, followed by the fulldome planetarium production “From Earth to the Universe.”\n\nThis 30-minute voyage through time and space conveys, through an arresting combination of sights and sounds, the Universe revealed to us by science. The show was produced for the ESO Supernova Planetarium and Visitor Centre.
BEGIN:VALARM
ACTION:DISPLAY
DESCRIPTION:REMINDER
TRIGGER;RELATED=START:-PT00H15M00S
END:VALARM
END:VEVENT
END:VCALENDAR
