BEGIN:VCALENDAR
VERSION:2.0
PRODID:-//Events//NONSGML v1.0//EN
METHOD:PUBLISH
BEGIN:VEVENT
DTSTART;TZID="Pacific Time (US & Canada)":20200121T103000
DTEND;TZID="Pacific Time (US & Canada)":20200121T114500
SUMMARY:Power of Writing and Literature: Understanding and overcoming trauma
LOCATION:Compton Union Building
DESCRIPTION:This workshop will use Rupi Kaur’s poetry collection The Sun and Her Flowers as a blueprint for understanding the stages of trauma and working through them. We will also go over some writing exercises that can help us to address traumatic experiences and learn from them.\n\nThis event is part of the 2020 MLK Program. Click here for more events.
BEGIN:VALARM
ACTION:DISPLAY
DESCRIPTION:REMINDER
TRIGGER;RELATED=START:-PT00H15M00S
END:VALARM
END:VEVENT
END:VCALENDAR
