BEGIN:VCALENDAR
VERSION:2.0
PRODID:-//Events//NONSGML v1.0//EN
METHOD:PUBLISH
BEGIN:VEVENT
DTSTART;TZID="Pacific Time (US & Canada)":20230127T101000
DTEND;TZID="Pacific Time (US & Canada)":20230127T140000
SUMMARY:Preparing Your Promotion Packet &#8212; College of Veterinary Medicine
LOCATION:
DESCRIPTION:College of Veterinary Medicine Teaching Academy\n\nWORKSHOP - Preparing Your Promotion Packet\n\nThis workshop will address how to effectively present your contributions to teaching and learning in your promotion packet. Participants will learn effective guidelines to follow and begin to apply these in showcasing their own work.
BEGIN:VALARM
ACTION:DISPLAY
DESCRIPTION:REMINDER
TRIGGER;RELATED=START:-PT00H15M00S
END:VALARM
END:VEVENT
END:VCALENDAR
