BEGIN:VCALENDAR
VERSION:2.0
PRODID:-//Events//NONSGML v1.0//EN
METHOD:PUBLISH
BEGIN:VEVENT
DTSTART;TZID="Pacific Time (US & Canada)":20190917T150000
DTEND;TZID="Pacific Time (US & Canada)":20190917T160000
SUMMARY:ProPEL Workshop: Interview Skills
LOCATION:Spark
DESCRIPTION:Interviewing can be scary. This workshop addresses key aspects of the interview process: preparation, interview types, what to expect and answering the behavior-based questions. A good resume gets you notices; strong interview skills will help you land the job.\n\nPlease bring a copy of your resume.
BEGIN:VALARM
ACTION:DISPLAY
DESCRIPTION:REMINDER
TRIGGER;RELATED=START:-PT00H15M00S
END:VALARM
END:VEVENT
END:VCALENDAR
