BEGIN:VCALENDAR
VERSION:2.0
PRODID:-//Events//NONSGML v1.0//EN
METHOD:PUBLISH
BEGIN:VEVENT
DTSTART;TZID="Pacific Time (US & Canada)":20190903T150000
DTEND;TZID="Pacific Time (US & Canada)":20190903T160000
SUMMARY:ProPEL Workshop: Resumes
LOCATION:Spark
DESCRIPTION:Need a resume? Your current resume not landing interviews? Don&#039;t know where to start? Let us help! We will discuss format, style, and how to write a resume that best reflects your strengths and talents.\n\nPlease bring a copy of your current resume.
BEGIN:VALARM
ACTION:DISPLAY
DESCRIPTION:REMINDER
TRIGGER;RELATED=START:-PT00H15M00S
END:VALARM
END:VEVENT
END:VCALENDAR
