BEGIN:VCALENDAR
VERSION:2.0
PRODID:-//Events//NONSGML v1.0//EN
METHOD:PUBLISH
BEGIN:VEVENT
DTSTART;TZID="Pacific Time (US & Canada)":20190911T151000
DTEND;TZID="Pacific Time (US & Canada)":20190911T160000
SUMMARY:ProPEL Workshop Small Group Session: Informational Interviews
LOCATION:Dana Hall
DESCRIPTION:Would you like some individualized and personalized assistance preparing for an informational interview? We will give you tips, tricks, and practice strategies to successfully complete an informational interview and how to utilize your network in the job search.\n\nPlease bring a copy of your resume.
BEGIN:VALARM
ACTION:DISPLAY
DESCRIPTION:REMINDER
TRIGGER;RELATED=START:-PT00H15M00S
END:VALARM
END:VEVENT
END:VCALENDAR
