BEGIN:VCALENDAR
VERSION:2.0
PRODID:-//Events//NONSGML v1.0//EN
METHOD:PUBLISH
BEGIN:VEVENT
DTSTART;TZID="Pacific Time (US & Canada)":20190918T151000
DTEND;TZID="Pacific Time (US & Canada)":20190918T170000
SUMMARY:ProPEL Workshop Small Group Session: Interview Skills
LOCATION:Spark
DESCRIPTION:Want some individualized and personalized help preparing for an interview? We will give you tips, tricks, and practice strategies to assist with the preparation, expectations, and execution of an interview!\n\nPlease bring a copy of your resume.
BEGIN:VALARM
ACTION:DISPLAY
DESCRIPTION:REMINDER
TRIGGER;RELATED=START:-PT00H15M00S
END:VALARM
END:VEVENT
END:VCALENDAR
