BEGIN:VCALENDAR
VERSION:2.0
PRODID:-//Events//NONSGML v1.0//EN
METHOD:PUBLISH
BEGIN:VEVENT
DTSTART;TZID="Pacific Time (US & Canada)":20190905T150000
DTEND;TZID="Pacific Time (US & Canada)":20190905T170000
SUMMARY:ProPEL Workshop Small Group Session: Resume
LOCATION:Dana Hall
DESCRIPTION:Would you like some personalized, individual attention on your resume? We will be conducting a small group workshop session to help students create, edit, and format their resumes to best reflect their strengths and skills. Please bring hard copies of your resume.
BEGIN:VALARM
ACTION:DISPLAY
DESCRIPTION:REMINDER
TRIGGER;RELATED=START:-PT00H15M00S
END:VALARM
END:VEVENT
END:VCALENDAR
