BEGIN:VCALENDAR
VERSION:2.0
PRODID:-//Events//NONSGML v1.0//EN
METHOD:PUBLISH
BEGIN:VEVENT
DTSTART;TZID="Pacific Time (US & Canada)":20190212T161500
DTEND;TZID="Pacific Time (US & Canada)":20190212T171500
SUMMARY:ProPEL Workshops: Cover Letters
LOCATION:Spark
DESCRIPTION:Wondering how to write an engaging cover letter? You’ll learn how to weave together your strengths with specific examples to write targeted cover letters that emphasize your fit for the job!
BEGIN:VALARM
ACTION:DISPLAY
DESCRIPTION:REMINDER
TRIGGER;RELATED=START:-PT00H15M00S
END:VALARM
END:VEVENT
END:VCALENDAR
