BEGIN:VCALENDAR
VERSION:2.0
PRODID:-//Events//NONSGML v1.0//EN
METHOD:PUBLISH
BEGIN:VEVENT
DTSTART;TZID="Pacific Time (US & Canada)":20190213T161000
DTEND;TZID="Pacific Time (US & Canada)":20190213T170000
SUMMARY:ProPEL Workshops: Salary Negotiation
LOCATION:Spark
DESCRIPTION:Are you nervous about negotiating a salary? Though most companies are willing to negotiate, most people never try. Learn techniques and practice negotiating to give you confidence and poise.
BEGIN:VALARM
ACTION:DISPLAY
DESCRIPTION:REMINDER
TRIGGER;RELATED=START:-PT00H15M00S
END:VALARM
END:VEVENT
END:VCALENDAR
