BEGIN:VCALENDAR
VERSION:2.0
PRODID:-//Events//NONSGML v1.0//EN
METHOD:PUBLISH
BEGIN:VEVENT
DTSTART;TZID="Pacific Time (US & Canada)":20191027T170000
DTEND;TZID="Pacific Time (US & Canada)":20191027T180000
SUMMARY:Public Planetarium Shows: Haunted Skies
LOCATION:Sloan Hall, 305 NE Spokane Street, Pullman, WA 99163
DESCRIPTION:Ghoulies and ghosties and things that go bump in the night? We sure do love to scare ourselves. Tour the (imaginary) terrors of the night sky from myth and legend. We also share some fascinating illusions such as the X-ray picture of the Perseus galaxy cluster pictured here.
BEGIN:VALARM
ACTION:DISPLAY
DESCRIPTION:REMINDER
TRIGGER;RELATED=START:-PT00H15M00S
END:VALARM
END:VEVENT
END:VCALENDAR
