BEGIN:VCALENDAR
VERSION:2.0
PRODID:-//Events//NONSGML v1.0//EN
METHOD:PUBLISH
BEGIN:VEVENT
DTSTART;TZID="Pacific Time (US & Canada)":20191110T170000
DTEND;TZID="Pacific Time (US & Canada)":20191110T180000
SUMMARY:Public Planetarium Shows: Mercury Transit Preview
LOCATION:Sloan Hall, 305 NE Spokane Street, Pullman, WA 99163
DESCRIPTION:On Monday morning, Nov. 11, Mercury will pass between the sun and the earth. Weather permitting, Jewett Observatory will be open for the event. But, beforehand, this planetarium preview will describe what to expect and all the hows and whys. Please, never view the sun without appropriate eye protection.\n\nWe’ll help you sort out transits, eclipses, and occultations and review some of the past and future occurrences of these spectacular events.\n\n&nbsp;
BEGIN:VALARM
ACTION:DISPLAY
DESCRIPTION:REMINDER
TRIGGER;RELATED=START:-PT00H15M00S
END:VALARM
END:VEVENT
END:VCALENDAR
