BEGIN:VCALENDAR
VERSION:2.0
PRODID:-//Events//NONSGML v1.0//EN
METHOD:PUBLISH
BEGIN:VEVENT
DTSTART;TZID="Pacific Time (US & Canada)":20190929T170000
DTEND;TZID="Pacific Time (US & Canada)":20190929T180000
SUMMARY:Public Planetarium Shows: Presentación del Planetario en Español
LOCATION:Sloan Hall, 305 NE Spokane Street, Pullman, WA 99163
DESCRIPTION:Our most popular planetarium tour, in Spanish! Constellations, sky motions, sky navigation, and planet highlights for 2019/2020.\n\n¡Nuestro recorrido por el planetario más popular, en español! Constelaciones, movimientos del cielo, navegación del cielo y aspectos más destacados del planeta para 2019/2020.\n\nLos boletos en la puerta cuestan $5 (efectivo o cheque, sin crédito). Niños de 6 años y menores gratis.\n\n&nbsp;
BEGIN:VALARM
ACTION:DISPLAY
DESCRIPTION:REMINDER
TRIGGER;RELATED=START:-PT00H15M00S
END:VALARM
END:VEVENT
END:VCALENDAR
