BEGIN:VCALENDAR
VERSION:2.0
PRODID:-//Events//NONSGML v1.0//EN
METHOD:PUBLISH
BEGIN:VEVENT
DTSTART;TZID="Pacific Time (US & Canada)":20191013T170000
DTEND;TZID="Pacific Time (US & Canada)":20191013T180000
SUMMARY:Public Planetarium Shows: Strange Universe
LOCATION:Sloan Hall, 305 NE Spokane Street, Pullman, WA 99163
DESCRIPTION:Oddities abound in space. Black holes and wormholes, sure, but that’s just the beginning of the list for cosmic mind-benders. Join us for an interactive, illustrated talk on the crazy – and real – objects in the universe. Revamped presentation: even stranger in 2019.
BEGIN:VALARM
ACTION:DISPLAY
DESCRIPTION:REMINDER
TRIGGER;RELATED=START:-PT00H15M00S
END:VALARM
END:VEVENT
END:VCALENDAR
