BEGIN:VCALENDAR
VERSION:2.0
PRODID:-//Events//NONSGML v1.0//EN
METHOD:PUBLISH
BEGIN:VEVENT
DTSTART;TZID="Pacific Time (US & Canada)":20230209T100000
DTEND;TZID="Pacific Time (US & Canada)":20230209T103000
SUMMARY:Sacramento &amp; Reno Cougs Shamrock Shirts
LOCATION:
DESCRIPTION:You’re in luck Sacramento &amp; Reno Cougs! Show your Cougar Pride by rocking an exclusive Sacramento &amp; Reno Chapter shamrock shirt this St. Patrick’s Day and at the upcoming St. Paddy’s Pickleball &amp; Pub Day on March 18!\n\nPurchase your shirt(s) HERE before the deadline on Thursday, February 9, at 10:00 a.m. Pacific. Your gear will be shipped directly to your home. When you follow the link, click on the style of shirt you&#039;d like to order to purchase.\n\n$25 per shirt (not including shipping) - choose between men’s and women’s tees.
BEGIN:VALARM
ACTION:DISPLAY
DESCRIPTION:REMINDER
TRIGGER;RELATED=START:-PT00H15M00S
END:VALARM
END:VEVENT
END:VCALENDAR
