BEGIN:VCALENDAR
VERSION:2.0
PRODID:-//Events//NONSGML v1.0//EN
METHOD:PUBLISH
BEGIN:VEVENT
DTSTART;TZID="Pacific Time (US & Canada)":20230306T151000
DTEND;TZID="Pacific Time (US & Canada)":20230306T160000
SUMMARY:School of Biological Sciences and Honors College Bhatia Lecture: Dr. Cailin O&#8217;Connor, UC Irvine, Interdisciplinarity in Sciences
LOCATION:Abelson Hall, Pullman, WA 99164
DESCRIPTION:Speaker: Dr. Cailin O’Connor, Associate Professor of Logic and Philosophy of Science, Institute for Mathematical Behavioral Science at the University of California, Irvine\n\nTitle: Interdisciplinarity Can Aid the Spread of Better Methods\n\nSponsored by: School of Biological Sciences, and the Honors College - V.N. Bhatia Lecture Series\n\nHost: Richard Gomulkiewicz
BEGIN:VALARM
ACTION:DISPLAY
DESCRIPTION:REMINDER
TRIGGER;RELATED=START:-PT00H15M00S
END:VALARM
END:VEVENT
END:VCALENDAR
