BEGIN:VCALENDAR
VERSION:2.0
PRODID:-//Events//NONSGML v1.0//EN
METHOD:PUBLISH
BEGIN:VEVENT
DTSTART;TZID="Pacific Time (US & Canada)":20241017T121000
DTEND;TZID="Pacific Time (US & Canada)":20241017T130000
SUMMARY:School of Molecular Biosciences Faculty Seminar Series
LOCATION:Biotechnology Life Sciences, Pullman, WA 99164
DESCRIPTION:PRESENTER: Dr. Eric Stoffregen, Lewis-Clark State College. Host: Dr. John Wyrick, School of Molecular Biosciences\n\nTITLE: Sublethal Consequences of DNA Damage During Early Drosophila Development\n\n\n\nThe School of Molecular Biosciences prepares students for careers in science, health, and medicine.\n\nOffering undergraduate, graduate, and postdoctoral training in biochemistry, genetics and cell biology, and microbiology.
BEGIN:VALARM
ACTION:DISPLAY
DESCRIPTION:REMINDER
TRIGGER;RELATED=START:-PT00H15M00S
END:VALARM
END:VEVENT
END:VCALENDAR
