BEGIN:VCALENDAR
VERSION:2.0
PRODID:-//Events//NONSGML v1.0//EN
METHOD:PUBLISH
BEGIN:VEVENT
DTSTART;TZID="Pacific Time (US & Canada)":20260424T093000
DTEND;TZID="Pacific Time (US & Canada)":20260424T103000
SUMMARY:School of Molecular Biosciences Graduate Student Seminar
LOCATION:Biotechnology Life Sciences, Pullman, WA 99164
DESCRIPTION:\n\nFinal Defense\n\nPRESENTER: Brietta Latham, PhD student (Advisor: Dr. Jon Oatley)\n\nTITLE: Application of Gene Editing Strategies to Livestock Production\n\n\n\nThe School of Molecular Biosciences prepares students for careers in science, health, and medicine.\n\nOffering undergraduate, graduate, and postdoctoral training in biochemistry, genetics and cell biology, and microbiology.
BEGIN:VALARM
ACTION:DISPLAY
DESCRIPTION:REMINDER
TRIGGER;RELATED=START:-PT00H15M00S
END:VALARM
END:VEVENT
END:VCALENDAR
