BEGIN:VCALENDAR
VERSION:2.0
PRODID:-//Events//NONSGML v1.0//EN
METHOD:PUBLISH
BEGIN:VEVENT
DTSTART;TZID="Pacific Time (US & Canada)":20240319T121000
DTEND;TZID="Pacific Time (US & Canada)":20240319T130000
SUMMARY:School of Molecular Biosciences Graduate Student Seminars
LOCATION:Biotechnology Life Sciences, Pullman, WA 99164
DESCRIPTION:\n\nPRESENTER: Cynthia Francis. PhD Student, on rotation\n\nTITLE: High Glucose Exposure of Preimplantation Embryos Causes Glucose Intolerance and Insulin Resistance in F1 and F2 Male Offspring\n\n\n\nThe School of Molecular Biosciences prepares students for careers in science, health, and medicine.\n\nOffering undergraduate, graduate, and postdoctoral training in biochemistry, genetics and cell biology, and microbiology.
BEGIN:VALARM
ACTION:DISPLAY
DESCRIPTION:REMINDER
TRIGGER;RELATED=START:-PT00H15M00S
END:VALARM
END:VEVENT
END:VCALENDAR
