BEGIN:VCALENDAR
VERSION:2.0
PRODID:-//Events//NONSGML v1.0//EN
METHOD:PUBLISH
BEGIN:VEVENT
DTSTART;TZID="Pacific Time (US & Canada)":20131204T130000
DTEND;TZID="Pacific Time (US & Canada)":20131204T140000
SUMMARY:Science in Medicine Lecture Series &#8211; WSU Spokane
LOCATION:
DESCRIPTION:Join Dr. Jonathan Himmelfarb, Director of the Kidney Research Institute at the University of Washington, as he discusses his research on, &quot;Kidney disease and the public health: problems, progress, and prospects.&quot;  His current research interests include studies on a wearable artificial kidney; development of a human &quot;kidney-on-a-chip,&quot; development and evaluation of risk biomarkers in acute and chronic kidney disease; studies of oxidative stress, inflammation and insulin resistance pathways in kidney disease.  the seminar will be via video conference in the WSU Spokane Nursing Building, Room 420.
BEGIN:VALARM
ACTION:DISPLAY
DESCRIPTION:REMINDER
TRIGGER;RELATED=START:-PT00H15M00S
END:VALARM
END:VEVENT
END:VCALENDAR
