BEGIN:VCALENDAR
VERSION:2.0
PRODID:-//Events//NONSGML v1.0//EN
METHOD:PUBLISH
BEGIN:VEVENT
DTSTART;TZID="Pacific Time (US & Canada)":20191114T110000
DTEND;TZID="Pacific Time (US & Canada)":20191114T120000
SUMMARY:Seminar: Layered sodium cathode materials: From atomic level understanding to high performance material
LOCATION:Engineering Teaching Research Laboratory (ETRL), Pullman, WA
DESCRIPTION:Presented by\n\nDr. Biwei Xiao, Scientific Staff, Pacific Northwest National Laboratory, Battery Materials and Systems Group\n\n\n\n \n\n  \n\n \n\n\n\n \n\n  Normal\n\n  0\n\n  \n\n  \n\n  \n\n  \n\n  false\n\n  false\n\n  false\n\n  \n\n  EN-US\n\n  ZH-CN\n\n  X-NONE\n\n  \n\n   \n\n   \n\n   \n\n   \n\n   \n\n   \n\n   \n\n   \n\n   \n\n   \n\n  \n\n  \n\n   \n\n   \n\n   \n\n   \n\n   \n\n   \n\n   \n\n   \n\n   \n\n   \n\n   \n\n  \n\n\n\n \n\n  \n\n  \n\n  \n\n  \n\n  \n\n  \n\n  \n\n  \n\n  \n\n  \n\n  \n\n  \n\n  \n\n  \n\n  \n\n  \n\n  \n\n  \n\n  \n\n  \n\n  \n\n  \n\n  \n\n  \n\n  \n\n  \n\n  \n\n  \n\n  \n\n  \n\n  \n\n  \n\n  \n\n  \n\n  \n\n  \n\n  \n\n  \n\n  \n\n  \n\n  \n\n  \n\n  \n\n  \n\n  \n\n  \n\n  \n\n  \n\n  \n\n  \n\n  \n\n  \n\n  \n\n  \n\n  \n\n  \n\n  \n\n  \n\n  \n\n  \n\n  \n\n  \n\n  \n\n  \n\n  \n\n  \n\n  \n\n  \n\n  \n\n  \n\n  \n\n  \n\n  \n\n  \n\n  \n\n  \n\n  \n\n  \n\n  \n\n  \n\n  \n\n  \n\n  \n\n  \n\n  \n\n  \n\n  \n\n  \n\n  \n\n  \n\n  \n\n  \n\n  \n\n  \n\n  \n\n  \n\n  \n\n  \n\n  \n\n  \n\n  \n\n  \n\n  \n\n  \n\n  \n\n  \n\n  \n\n  \n\n  \n\n  \n\n  \n\n  \n\n  \n\n  \n\n  \n\n  \n\n  \n\n  \n\n  \n\n  \n\n  \n\n  \n\n  \n\n  \n\n  \n\n  \n\n  \n\n  \n\n  \n\n  \n\n  \n\n  \n\n  \n\n  \n\n  \n\n  \n\n  \n\n  \n\n  \n\n  \n\n  \n\n  \n\n  \n\n  \n\n  \n\n  \n\n  \n\n  \n\n  \n\n  \n\n  \n\n  \n\n  \n\n  \n\n  \n\n  \n\n  \n\n  \n\n  \n\n  \n\n  \n\n  \n\n  \n\n  \n\n  \n\n  \n\n  \n\n  \n\n  \n\n  \n\n  \n\n  \n\n  \n\n  \n\n  \n\n  \n\n  \n\n  \n\n  \n\n  \n\n  \n\n  \n\n  \n\n  \n\n  \n\n  \n\n  \n\n  \n\n  \n\n  \n\n  \n\n  \n\n  \n\n  \n\n  \n\n  \n\n  \n\n  \n\n  \n\n  \n\n  \n\n  \n\n  \n\n  \n\n  \n\n  \n\n  \n\n  \n\n  \n\n  \n\n  \n\n  \n\n  \n\n  \n\n  \n\n  \n\n  \n\n  \n\n  \n\n  \n\n  \n\n  \n\n  \n\n  \n\n  \n\n  \n\n  \n\n  \n\n  \n\n  \n\n  \n\n  \n\n  \n\n  \n\n  \n\n  \n\n  \n\n  \n\n  \n\n  \n\n  \n\n  \n\n  \n\n  \n\n  \n\n  \n\n  \n\n  \n\n  \n\n  \n\n  \n\n  \n\n  \n\n  \n\n  \n\n  \n\n  \n\n  \n\n  \n\n  \n\n  \n\n  \n\n  \n\n  \n\n  \n\n  \n\n  \n\n  \n\n  \n\n  \n\n  \n\n  \n\n  \n\n  \n\n  \n\n  \n\n  \n\n  \n\n  \n\n  \n\n  \n\n  \n\n  \n\n  \n\n  \n\n  \n\n  \n\n  \n\n  \n\n  \n\n  \n\n  \n\n  \n\n  \n\n  \n\n  \n\n  \n\n  \n\n  \n\n  \n\n  \n\n  \n\n  \n\n  \n\n  \n\n  \n\n  \n\n  \n\n  \n\n  \n\n  \n\n  \n\n  \n\n  \n\n  \n\n  \n\n  \n\n  \n\n  \n\n  \n\n  \n\n  \n\n  \n\n  \n\n  \n\n  \n\n  \n\n  \n\n  \n\n  \n\n  \n\n  \n\n  \n\n  \n\n  \n\n  \n\n  \n\n  \n\n  \n\n  \n\n  \n\n  \n\n  \n\n  \n\n  \n\n  \n\n  \n\n  \n\n  \n\n  \n\n  \n\n  \n\n  \n\n  \n\n  \n\n  \n\n  \n\n  \n\n  \n\n  \n\n  \n\n  \n\n  \n\n  \n\n  \n\n  \n\n  \n\n  \n\n  \n\n  \n\n  \n\n  \n\n  \n\n  \n\n  \n\n  \n\n \n\n\n\n /* Style Definitions */\n\n table.MsoNormalTable\n\n	{mso-style-name:&quot;Table Normal&quot;;\n\n	mso-tstyle-rowband-size:0;\n\n	mso-tstyle-colband-size:0;\n\n	mso-style-noshow:yes;\n\n	mso-style-priority:99;\n\n	mso-style-parent:&quot;&quot;;\n\n	mso-padding-alt:0in 5.4pt 0in 5.4pt;\n\n	mso-para-margin-top:0in;\n\n	mso-para-margin-right:0in;\n\n	mso-para-margin-bottom:8.0pt;\n\n	mso-para-margin-left:0in;\n\n	line-height:107%;\n\n	mso-pagination:widow-orphan;\n\n	font-size:11.0pt;\n\n	font-family:&quot;Calibri&quot;,sans-serif;\n\n	mso-ascii-font-family:Calibri;\n\n	mso-ascii-theme-font:minor-latin;\n\n	mso-hansi-font-family:Calibri;\n\n	mso-hansi-theme-font:minor-latin;\n\n	mso-bidi-font-family:&quot;Times New Roman&quot;;\n\n	mso-bidi-theme-font:minor-bidi;\n\n	mso-fareast-language:ZH-CN;}\n\nDr. Biwei Xiao is a Staff Scientist at Pacific Northwest National Laboratory (PNNL) in the Battery Materials &amp; Systems Group. Prior to that, he was a Ph.D. student at The University of Western Ontario, Canada and an intern at General Motors. His research has been associated with the synthesis, modification and mechanism study of electrode materials for sodium-ion batteries and lithium-ion batteries, thin-film deposition techniques, carbonaceous materials and synchrotron radiation techniques.\n\n&nbsp;\n\n&nbsp;\n\n \n\nhttps://mme.wsu.edu/seminar-series/
BEGIN:VALARM
ACTION:DISPLAY
DESCRIPTION:REMINDER
TRIGGER;RELATED=START:-PT00H15M00S
END:VALARM
END:VEVENT
END:VCALENDAR
