BEGIN:VCALENDAR
VERSION:2.0
PRODID:-//Events//NONSGML v1.0//EN
METHOD:PUBLISH
BEGIN:VEVENT
DTSTART;TZID="Pacific Time (US & Canada)":20191121T110000
DTEND;TZID="Pacific Time (US & Canada)":20191121T120000
SUMMARY:Seminar: Lessons learned from a mid-career engineer in industry
LOCATION:Engineering Teaching Research Laboratory (ETRL), Pullman, WA
DESCRIPTION:Presented by\n\nDr. Veronica Miller, Northrup-Grumman\n\nAbstract\n\nI’ve seen both triumphs and failures both equally spectacular during my time as an Engineer in Industry. I would like to discuss with you some advice and ways to live by from my own experience with the hope that you might avoid some of the pitfalls.You would be surprised at how much a little respect goes a long ways and that something as simple as practicing repeatable measurement technique is hard to come by (and can be what separates you from the rest). One of the most pivotal things I learned about my own approach is something a mentor taught me and that&#039;s to never underestimate the power of pen and paper. It&#039;s the basis of how/where things make sense, where you can check your work, and where you start to develop a solution or response. It&#039;s where you can provide a five minute answer that eventually turns into a longer answer, which turns into follow-up conversations and answers. In my experience good engineering always involves follow-up, or some may say, &quot;No good deed goes unpunished.&quot; However, I choose to see the positive. This is where our passions flourish. Please join me in a conversation about how we can align ourselves toward a common goal of getting cool stuff done!\n\nhttps://mme.wsu.edu/seminar-series/
BEGIN:VALARM
ACTION:DISPLAY
DESCRIPTION:REMINDER
TRIGGER;RELATED=START:-PT00H15M00S
END:VALARM
END:VEVENT
END:VCALENDAR
